BEGIN:VCALENDAR
VERSION:2.0
PRODID:icalendar-ruby
CALSCALE:GREGORIAN
METHOD:PUBLISH
BEGIN:VTIMEZONE
TZID:Europe/London
BEGIN:DAYLIGHT
DTSTART:20260329T020000
TZOFFSETFROM:+0000
TZOFFSETTO:+0100
RRULE:FREQ=YEARLY;BYDAY=-1SU;BYMONTH=3
TZNAME:BST
END:DAYLIGHT
BEGIN:STANDARD
DTSTART:20251026T010000
TZOFFSETFROM:+0100
TZOFFSETTO:+0000
RRULE:FREQ=YEARLY;BYDAY=-1SU;BYMONTH=10
TZNAME:GMT
END:STANDARD
END:VTIMEZONE
BEGIN:VEVENT
DTSTAMP:20260421T103554Z
UID:lupms-annual-conference-2026
DTSTART;TZID=Europe/London:20260308T094500
DTEND;TZID=Europe/London:20260308T153000
LOCATION:Health Innovation One\, Lancaster University\, Bailrigg\, Lancaste
 r\, LA1 4AT
SUMMARY:LUPMS Annual Conference 2026
END:VEVENT
END:VCALENDAR
